BEGIN:VCALENDAR
VERSION:2.0
PRODID:-//KwartierWerk Köln-Ehrenfeld - ECPv6.15.20//NONSGML v1.0//EN
CALSCALE:GREGORIAN
METHOD:PUBLISH
X-WR-CALNAME:KwartierWerk Köln-Ehrenfeld
X-ORIGINAL-URL:https://www.kwartierwerk.de
X-WR-CALDESC:Veranstaltungen für KwartierWerk Köln-Ehrenfeld
REFRESH-INTERVAL;VALUE=DURATION:PT1H
X-Robots-Tag:noindex
X-PUBLISHED-TTL:PT1H
BEGIN:VTIMEZONE
TZID:Europe/Berlin
BEGIN:DAYLIGHT
TZOFFSETFROM:+0100
TZOFFSETTO:+0200
TZNAME:CEST
DTSTART:20230326T010000
END:DAYLIGHT
BEGIN:STANDARD
TZOFFSETFROM:+0200
TZOFFSETTO:+0100
TZNAME:CET
DTSTART:20231029T010000
END:STANDARD
BEGIN:DAYLIGHT
TZOFFSETFROM:+0100
TZOFFSETTO:+0200
TZNAME:CEST
DTSTART:20240331T010000
END:DAYLIGHT
BEGIN:STANDARD
TZOFFSETFROM:+0200
TZOFFSETTO:+0100
TZNAME:CET
DTSTART:20241027T010000
END:STANDARD
BEGIN:DAYLIGHT
TZOFFSETFROM:+0100
TZOFFSETTO:+0200
TZNAME:CEST
DTSTART:20250330T010000
END:DAYLIGHT
BEGIN:STANDARD
TZOFFSETFROM:+0200
TZOFFSETTO:+0100
TZNAME:CET
DTSTART:20251026T010000
END:STANDARD
END:VTIMEZONE
BEGIN:VEVENT
DTSTART;TZID=Europe/Berlin:20240629T110000
DTEND;TZID=Europe/Berlin:20240629T170000
DTSTAMP:20260421T055232
CREATED:20240527T161307Z
LAST-MODIFIED:20240527T161307Z
UID:351-1719658800-1719680400@www.kwartierwerk.de
SUMMARY:Tag der Architektur
DESCRIPTION:Wir heißen am „Tag der Architektur“ am 29. Juni das für unsere Anlage verantwortliche Büro schultearchitekten im Kwartierwerk willkommen. \nSo lautet die Ankündigung auf der Website der Architektenkammer Nordrhein-Westfalen: \nMiteinander im Kwartier Werk\, Am alten Güterbahnhof Köln\nDer „offene Wohnblock“ setzt sich aus kompakten und harmonischen Volumina als quartierstypische und einfache Baukörper zusammen. Die über verschiedene Haustypologien\, Detailformen\, Baustoffe und Farben ablesbare „Ehrenfelder Mischung“ bietet Gartenwohnungen\, Studioapartments\, urbane Stadthäuser und Penthouses für eine Community aus Jung + Alt. Die „urbane Freifläche“ des Innenhofes\, mit dem Nachbarschaftscontainer als Reminiszenz an Jack in the Box\, lädt ein in einen „Raum für alle“. \n\n\nBauherr*in\nBPD Immobilienentwicklungs GmbH \nEntwurfsverfasser*in\nArchitekt Wilhelm Schulte\, BDA \nBeteiligte\nThomas Schäfer\, Dipl.-Ing. Architekt\nEmilia Schulz\, Dipl.-Ing. (FH) Architektin\nLill + Sparla Landschaftsarchitekten \n\n\nBüro\nschultearchitekten gmbh\nAltengrabengäßchen 5-7\n50668 Köln \nWeitere Infos zum Tag der Architektur auf der Website der Architektenkammer Nordrhein-Westfalen. \n\n\n 
URL:https://www.kwartierwerk.de/termin/tag-der-architektur/
LOCATION:am grünen Nachbarschaftscontainer\, Am Alten Güterbahnhof 43-57\, Köln\, Nordrhein-Westfalen\, 50825\, Deutschland
END:VEVENT
END:VCALENDAR